BEGIN:VCALENDAR
VERSION:2.0
PRODID:-//SVP Aargau //NONSGML Events //EN
CALSCALE:GREGORIAN
X-WR-CALNAME:SVP Aargau
BEGIN:VEVENT
CREATED:20231003T082858Z
UID:11404
DTEND:20231022T140000
DTSTART:20231022T133000
DTSTAMP:20231024T074316Z
LOCATION:
DESCRIPTION:Entgegennahme der Wahlresultate ab 13.30 Uhr im Restaurant Schützen, 
SUMMARY:Wahlsonntag
ORGANIZER:
URL;VALUE=URI:https://www.svpag.ch/aktuell/termine/wahlsonntag/
TRANSP:OPAQUE
END:VEVENT
END:VCALENDAR
