BEGIN:VCALENDAR
VERSION:2.0
PRODID:-//SVP Aargau //NONSGML Events //EN
CALSCALE:GREGORIAN
X-WR-CALNAME:SVP Aargau
BEGIN:VEVENT
CREATED:20230912T094938Z
UID:11189
DTEND:20230926T220000
DTSTART:20230926T184500
DTSTAMP:20231024T074411Z
LOCATION:
DESCRIPTION:Die SVP Wohlen-Anglikon lädt ein zum grossen, überparteilichen Podiu
SUMMARY:Podium zum Thema Zuwanderung
ORGANIZER:
URL;VALUE=URI:https://www.svpag.ch/aktuell/termine/podium-zum-thema-zuwanderung/
TRANSP:OPAQUE
END:VEVENT
END:VCALENDAR
