BEGIN:VCALENDAR
VERSION:2.0
PRODID:-//SVP Aargau //NONSGML Events //EN
CALSCALE:GREGORIAN
X-WR-CALNAME:SVP Aargau
BEGIN:VEVENT
CREATED:20230905T144654Z
UID:11154
DTEND:20231006T190000
DTSTART:20231006T180000
DTSTAMP:20231024T074306Z
LOCATION:
DESCRIPTION:Die Gebrüder Käppeli AG und die SVP-Ortspartei Merenschwand-Benzensc
SUMMARY:Betriebsbesichtigung Gebrüder Käppeli AG &#8211\; SVP Meisterschwand-Benzenschwil
ORGANIZER:
URL;VALUE=URI:https://www.svpag.ch/aktuell/termine/betriebsbesichtigung-gebrueder-kaeppeli-ag-svp-meisterschwand-benzenschwil/
TRANSP:OPAQUE
END:VEVENT
END:VCALENDAR
