BEGIN:VCALENDAR
VERSION:2.0
PRODID:-//SVP Aargau //NONSGML Events //EN
CALSCALE:GREGORIAN
X-WR-CALNAME:SVP Aargau
BEGIN:VEVENT
CREATED:20230828T124418Z
UID:11139
DTEND:20230913T200000
DTSTART:20230913T190000
DTSTAMP:20231024T074351Z
LOCATION:
DESCRIPTION:Einladung zur Infoveranstaltung: 13. September 2023  Ort: Aula Schulha
SUMMARY:&#8220\;Geht uns der Strom aus?&#8221\; SVP Bezirk Baden
ORGANIZER:
URL;VALUE=URI:https://www.svpag.ch/aktuell/termine/geht-uns-der-strom-aus-svp-bezirk-baden/
TRANSP:OPAQUE
END:VEVENT
END:VCALENDAR
