BEGIN:VCALENDAR
VERSION:2.0
PRODID:-//SVP Aargau //NONSGML Events //EN
CALSCALE:GREGORIAN
X-WR-CALNAME:SVP Aargau
BEGIN:VEVENT
CREATED:20230816T125045Z
UID:11115
DTEND:20230908T190000
DTSTART:20230908T183000
DTSTAMP:20231024T074404Z
LOCATION:
DESCRIPTION:Alle sind herzlich eingeladen, ab 18.30 Uhr im Waldhaus Birrhard. Als 
SUMMARY:SVP Birrhard lädt ein zum Politapéro
ORGANIZER:
URL;VALUE=URI:https://www.svpag.ch/aktuell/termine/svp-birr-politapero/
TRANSP:OPAQUE
END:VEVENT
END:VCALENDAR
