BEGIN:VCALENDAR
VERSION:2.0
PRODID:-//SVP Aargau //NONSGML Events //EN
CALSCALE:GREGORIAN
X-WR-CALNAME:SVP Aargau
BEGIN:VEVENT
CREATED:20230814T203739Z
UID:11113
DTEND:20230820T110000
DTSTART:20230820T100000
DTSTAMP:20260420T132454Z
LOCATION:
DESCRIPTION:Die SVP Wölflinswil lädt alle Kandidaten der JSVP und der SVP am Son
SUMMARY:SVP Wölflinswil &#8211\; Wahlanlass
ORGANIZER:
URL;VALUE=URI:https://www.svpag.ch/aktuell/termine/svp-woelflinswil-wahlanlass/
TRANSP:OPAQUE
END:VEVENT
END:VCALENDAR
