BEGIN:VCALENDAR
VERSION:2.0
PRODID:-//SVP Aargau //NONSGML Events //EN
CALSCALE:GREGORIAN
X-WR-CALNAME:SVP Aargau
BEGIN:VEVENT
CREATED:20230806T145323Z
UID:11068
DTEND:20230815T190000
DTSTART:20230815T183000
DTSTAMP:20231024T074345Z
LOCATION:
DESCRIPTION: Podiumsdiskussion - Braucht der Aargau eine Einheitspolizei? Es disku
SUMMARY:Einheitspolizei oder duales System &#8211\; SVP Bezirk Aarau
ORGANIZER:
URL;VALUE=URI:https://www.svpag.ch/aktuell/termine/einheitspolizei-oder-duales-system-svp-bezirk-aarau/
TRANSP:OPAQUE
END:VEVENT
END:VCALENDAR
