BEGIN:VCALENDAR
VERSION:2.0
PRODID:-//SVP Aargau //NONSGML Events //EN
CALSCALE:GREGORIAN
X-WR-CALNAME:SVP Aargau
BEGIN:VEVENT
CREATED:20230806T142622Z
UID:11066
DTEND:20230819T000000
DTSTART:20230819T000000
DTSTAMP:20231024T074401Z
LOCATION:
DESCRIPTION:Die SVP Meisterschwanden macht eine Begehung des Lindenbergs mit ausge
SUMMARY:Rundgang Lindenberg &#8211\; SVP Meisterschwanden
ORGANIZER:
URL;VALUE=URI:https://www.svpag.ch/aktuell/termine/rundgang-lindenberg-svp-meisterschwanden/
TRANSP:OPAQUE
END:VEVENT
END:VCALENDAR
