BEGIN:VCALENDAR
VERSION:2.0
PRODID:-//SVP Aargau //NONSGML Events //EN
CALSCALE:GREGORIAN
X-WR-CALNAME:SVP Aargau
BEGIN:VEVENT
CREATED:20230628T124000Z
UID:10846
DTEND:20230909T180000
DTSTART:20230909T170000
DTSTAMP:20231024T074359Z
LOCATION:Markthalle Zofingen
DESCRIPTION:Wahlanlass mit Nationalrat Marcel Dettling: Kommen Sie vorbei und lern
SUMMARY:Wahlanlass SVP Zofingen
ORGANIZER:
URL;VALUE=URI:https://www.svpag.ch/aktuell/termine/wahlanlass-svp-zofingen-muehlethal/
TRANSP:OPAQUE
END:VEVENT
END:VCALENDAR
