BEGIN:VCALENDAR
VERSION:2.0
PRODID:-//SVP Aargau //NONSGML Events //EN
CALSCALE:GREGORIAN
X-WR-CALNAME:SVP Aargau
BEGIN:VEVENT
CREATED:20230620T094253Z
UID:10837
DTEND:20230826T000000
DTSTART:20230826T000000
DTSTAMP:20231024T074329Z
LOCATION:Swiss Life Arena des ZSC
DESCRIPTION:Der Auftakt zu den Nationalratswahlen 2023 findet am Samstag, 26. Augu
SUMMARY:Wahlauftakt SVP Schweiz
ORGANIZER:
URL;VALUE=URI:https://www.svpag.ch/aktuell/termine/wahlauftakt-svp-schweiz/
TRANSP:OPAQUE
END:VEVENT
END:VCALENDAR
