BEGIN:VCALENDAR
VERSION:2.0
PRODID:-//SVP Aargau //NONSGML Events //EN
CALSCALE:GREGORIAN
X-WR-CALNAME:SVP Aargau
BEGIN:VEVENT
CREATED:20230620T090930Z
UID:10834
DTEND:20230731T150000
DTSTART:20230731T140000
DTSTAMP:20231024T074409Z
LOCATION:Tell-Freilichtspiel-Areal\, Matten bei Interlaken
DESCRIPTION:Pro Schweiz führt am Montag, 31. Juli 2023, am Vortag zum Bundesfeier
SUMMARY:Bundesfeier im Tell-Freilichtspiel-Areal
ORGANIZER:Pro Schweiz
URL;VALUE=URI:https://www.svpag.ch/aktuell/termine/bundesfeier-im-tell-freilichtspiel-areal/
TRANSP:OPAQUE
END:VEVENT
END:VCALENDAR
