BEGIN:VCALENDAR
VERSION:2.0
PRODID:-//SVP Aargau //NONSGML Events //EN
CALSCALE:GREGORIAN
X-WR-CALNAME:SVP Aargau
BEGIN:VEVENT
CREATED:20230612T113826Z
UID:10826
DTEND:20230923T150000
DTSTART:20230923T140000
DTSTAMP:20231024T074346Z
LOCATION:
DESCRIPTION:Anlass   Organisator SVP Kölliken Datum:  23.9.2023 im Stall zu Fa
SUMMARY:SVP Kölliken &#8211\; &#8220\;Stallfest&#8221\;
ORGANIZER:
URL;VALUE=URI:https://www.svpag.ch/aktuell/termine/svp-koelliken-stallfest/
TRANSP:OPAQUE
END:VEVENT
END:VCALENDAR
