BEGIN:VCALENDAR
VERSION:2.0
PRODID:-//SVP Aargau //NONSGML Events //EN
CALSCALE:GREGORIAN
X-WR-CALNAME:SVP Aargau
BEGIN:VEVENT
CREATED:20230612T113432Z
UID:10822
DTEND:20230819T180000
DTSTART:20230819T170000
DTSTAMP:20231024T074333Z
LOCATION:
DESCRIPTION:Anlass   Organisator SVP Murgenthal Datum:  19.8.2023 Grillfest auf
SUMMARY:SVP Murgenthal &#8211\; Grillfest Glurhof
ORGANIZER:
URL;VALUE=URI:https://www.svpag.ch/aktuell/termine/svp-murgenthal-grillfest-glurhof/
TRANSP:OPAQUE
END:VEVENT
END:VCALENDAR
