BEGIN:VCALENDAR
VERSION:2.0
PRODID:-//SVP Aargau //NONSGML Events //EN
CALSCALE:GREGORIAN
X-WR-CALNAME:SVP Aargau
BEGIN:VEVENT
CREATED:20230530T090328Z
UID:10803
DTEND:20230903T130000
DTSTART:20230903T120000
DTSTAMP:20231024T074334Z
LOCATION:Rothrist
DESCRIPTION:Öffentlicher Grillplausch mit den Kandidatinnen und Kandidaten der ei
SUMMARY:&#8220\;SVP bi de Lüt&#8221\; der SVP Rothrist
ORGANIZER:
URL;VALUE=URI:https://www.svpag.ch/aktuell/termine/svp-bi-de-luet-der-svp-rothrist/
TRANSP:OPAQUE
END:VEVENT
END:VCALENDAR
