BEGIN:VCALENDAR
VERSION:2.0
PRODID:-//SVP Aargau //NONSGML Events //EN
CALSCALE:GREGORIAN
X-WR-CALNAME:SVP Aargau
BEGIN:VEVENT
CREATED:20230517T103347Z
UID:10799
DTEND:20230523T200000
DTSTART:20230523T191500
DTSTAMP:20231024T074346Z
LOCATION:
DESCRIPTION:Klimaschutzgesetz Podium Berikon Kosten – Gefahren – Nutzen  des 
SUMMARY:Klimaschutzgesetz &#8211\; Podiumsdiskussion
ORGANIZER:
URL;VALUE=URI:https://www.svpag.ch/aktuell/termine/klimaschutzgesetz-podiumsdiskussion/
TRANSP:OPAQUE
END:VEVENT
END:VCALENDAR
