BEGIN:VCALENDAR
VERSION:2.0
PRODID:-//SVP Aargau //NONSGML Events //EN
CALSCALE:GREGORIAN
X-WR-CALNAME:SVP Aargau
BEGIN:VEVENT
CREATED:20230516T091813Z
UID:10758
DTEND:20230909T180000
DTSTART:20230909T170000
DTSTAMP:20231024T074258Z
LOCATION:Rinikerstrasse 8\, 5236 Remigen
DESCRIPTION:Vor dem Bezirksparteitag finden die traditionellen Wanderungen statt. 
SUMMARY:SVP Bezirkspartei Brugg
ORGANIZER:
URL;VALUE=URI:https://www.svpag.ch/aktuell/termine/svp-bezirkspartei-brugg/
TRANSP:OPAQUE
END:VEVENT
END:VCALENDAR
