BEGIN:VCALENDAR
VERSION:2.0
PRODID:-//SVP Aargau //NONSGML Events //EN
CALSCALE:GREGORIAN
X-WR-CALNAME:SVP Aargau
BEGIN:VEVENT
CREATED:20230503T072207Z
UID:10741
DTEND:20231001T120000
DTSTART:20231001T110000
DTSTAMP:20231024T074301Z
LOCATION:
DESCRIPTION:11.00 Uhr, Waldhaus, Gipf-Oberfrick
SUMMARY:Waldfäscht &#8211\; SVP Gipf-Oberfrick
ORGANIZER:
URL;VALUE=URI:https://www.svpag.ch/aktuell/termine/waldfaescht-svp-gipf-oberfrick/
TRANSP:OPAQUE
END:VEVENT
END:VCALENDAR
