BEGIN:VCALENDAR
VERSION:2.0
PRODID:-//SVP Aargau //NONSGML Events //EN
CALSCALE:GREGORIAN
X-WR-CALNAME:SVP Aargau
BEGIN:VEVENT
CREATED:20230503T072024Z
UID:10739
DTEND:20230606T210000
DTSTART:20230606T200000
DTSTAMP:20231024T074359Z
LOCATION:
DESCRIPTION:20.00 Uhr, Gasthof Adler Gipf-Oberfrick
SUMMARY:Generalversammlung SVP Gipf-Oberfrick
ORGANIZER:
URL;VALUE=URI:https://www.svpag.ch/aktuell/termine/generalversammlung-svp-gipf-oberfrick/
TRANSP:OPAQUE
END:VEVENT
END:VCALENDAR
