BEGIN:VCALENDAR
VERSION:2.0
PRODID:-//SVP Aargau //NONSGML Events //EN
CALSCALE:GREGORIAN
X-WR-CALNAME:SVP Aargau
BEGIN:VEVENT
CREATED:20230503T071910Z
UID:10737
DTEND:20230525T210000
DTSTART:20230525T200000
DTSTAMP:20231024T074349Z
LOCATION:
DESCRIPTION:20.00 Uhr, Landgasthof Ochsen Wölflinswil, Ständeratskandidat Benjam
SUMMARY:Generalversammlung SVP Bezirk Laufenburg
ORGANIZER:
URL;VALUE=URI:https://www.svpag.ch/aktuell/termine/generalversammlung-svp-bezirk-laufenburg/
TRANSP:OPAQUE
END:VEVENT
END:VCALENDAR
