BEGIN:VCALENDAR
VERSION:2.0
PRODID:-//SVP Aargau //NONSGML Events //EN
CALSCALE:GREGORIAN
X-WR-CALNAME:SVP Aargau
BEGIN:VEVENT
CREATED:20230416T052932Z
UID:10730
DTEND:T000000
DTSTART:T000000
DTSTAMP:20231024T074516Z
LOCATION:
DESCRIPTION:Die SVP Bezirk Muri organisiert im Klosterhof Muri die Landsgemeinde M
SUMMARY:Landsgemeinde Muri
ORGANIZER:
URL;VALUE=URI:https://www.svpag.ch/aktuell/termine/landsgemeinde-muri/
TRANSP:OPAQUE
END:VEVENT
END:VCALENDAR
