BEGIN:VCALENDAR
VERSION:2.0
PRODID:-//SVP Aargau //NONSGML Events //EN
CALSCALE:GREGORIAN
X-WR-CALNAME:SVP Aargau
BEGIN:VEVENT
CREATED:20230404T181741Z
UID:10713
DTEND:20230902T170000
DTSTART:20230902T103000
DTSTAMP:20231024T074303Z
LOCATION:
DESCRIPTION:Wahlanlass der SVP Niederwil-Nesselnbach Mit folgenden Gästen: Andy G
SUMMARY:Politik trifft Gewerbe und Landwirtschaft
ORGANIZER:
URL;VALUE=URI:https://www.svpag.ch/aktuell/termine/politik-trifft-gewerbe-und-landwirtschaft/
TRANSP:OPAQUE
END:VEVENT
END:VCALENDAR
