BEGIN:VCALENDAR
VERSION:2.0
PRODID:-//SVP Aargau //NONSGML Events //EN
CALSCALE:GREGORIAN
X-WR-CALNAME:SVP Aargau
BEGIN:VEVENT
CREATED:20230403T074940Z
UID:10709
DTEND:20230924T110000
DTSTART:20230924T100000
DTSTAMP:20231024T074352Z
LOCATION:
DESCRIPTION:10 Uhr Start beim Bahnhof Lenzburg – ca. 12:00 Uhr Wurst, Brot und W
SUMMARY:SVP Wählerwanderung
ORGANIZER:
URL;VALUE=URI:https://www.svpag.ch/aktuell/termine/svp-waehlerwanderung/
TRANSP:OPAQUE
END:VEVENT
END:VCALENDAR
