BEGIN:VCALENDAR
VERSION:2.0
PRODID:-//SVP Aargau //NONSGML Events //EN
CALSCALE:GREGORIAN
X-WR-CALNAME:SVP Aargau
BEGIN:VEVENT
CREATED:20230331T152445Z
UID:10700
DTEND:20230426T190000
DTSTART:20230426T183000
DTSTAMP:20231024T074342Z
LOCATION:Kulturhaus Rain\, Kleindöttingen
DESCRIPTION:SVP Bezirk Zurzach begrüsst Bundesrat Albert Rösti Mittwoch, 26. Apr
SUMMARY:SVP-Auftakt 2023 mit BR Rösti
ORGANIZER:
URL;VALUE=URI:https://www.svpag.ch/aktuell/termine/svp-auftakt-2023-mit-br-roesti/
TRANSP:OPAQUE
END:VEVENT
END:VCALENDAR
