BEGIN:VCALENDAR
VERSION:2.0
PRODID:-//SVP Aargau //NONSGML Events //EN
CALSCALE:GREGORIAN
X-WR-CALNAME:SVP Aargau
BEGIN:VEVENT
CREATED:20230313T133253Z
UID:10665
DTEND:20230414T210000
DTSTART:20230414T203000
DTSTAMP:20260420T132412Z
LOCATION:
DESCRIPTION:Die vierte Gewalt - Medien auf Abwegen? Öffentliches Referat Landgast
SUMMARY:Referat von Dr. Philipp Gut
ORGANIZER:
URL;VALUE=URI:https://www.svpag.ch/aktuell/termine/referat-von-dr-philipp-gut/
TRANSP:OPAQUE
END:VEVENT
END:VCALENDAR
