BEGIN:VCALENDAR
VERSION:2.0
PRODID:-//SVP Aargau //NONSGML Events //EN
CALSCALE:GREGORIAN
X-WR-CALNAME:SVP Aargau
BEGIN:VEVENT
CREATED:20230313T133119Z
UID:10663
DTEND:20230922T000000
DTSTART:20230922T000000
DTSTAMP:20231024T074310Z
LOCATION:
DESCRIPTION:Altstadt SVP Stadt Bremgarten
SUMMARY:Grillanlass in Bremgarten
ORGANIZER:
URL;VALUE=URI:https://www.svpag.ch/aktuell/termine/grillanlass-in-bremgarten/
TRANSP:OPAQUE
END:VEVENT
END:VCALENDAR
