BEGIN:VCALENDAR
VERSION:2.0
PRODID:-//SVP Aargau //NONSGML Events //EN
CALSCALE:GREGORIAN
X-WR-CALNAME:SVP Aargau
BEGIN:VEVENT
CREATED:20230308T150143Z
UID:10645
DTEND:20230517T210000
DTSTART:20230517T200000
DTSTAMP:20231024T074337Z
LOCATION:
DESCRIPTION:Mehrzweckhalle Holziken SVP Holziken öffentlicher Anlass, Platzzahl b
SUMMARY:BR Rösti in Holziken
ORGANIZER:
URL;VALUE=URI:https://www.svpag.ch/aktuell/termine/br-roesti-in-holziken/
TRANSP:OPAQUE
END:VEVENT
END:VCALENDAR
