BEGIN:VCALENDAR
VERSION:2.0
PRODID:-//SVP Aargau //NONSGML Events //EN
CALSCALE:GREGORIAN
X-WR-CALNAME:SVP Aargau
BEGIN:VEVENT
CREATED:20230306T150033Z
UID:10642
DTEND:20230525T000000
DTSTART:20230525T000000
DTSTAMP:20231024T074324Z
LOCATION:
DESCRIPTION:Mehrzweckhalle, 5616 Meisterschwanden Türöffnung 18.30 Uhr, Beginn d
SUMMARY:NR Roger Köppel in Meisterschwanden
ORGANIZER:
URL;VALUE=URI:https://www.svpag.ch/aktuell/termine/nr-roger-koeppel-in-meisterschwanden/
TRANSP:OPAQUE
END:VEVENT
END:VCALENDAR
