BEGIN:VCALENDAR
VERSION:2.0
PRODID:-//SVP Aargau //NONSGML Events //EN
CALSCALE:GREGORIAN
X-WR-CALNAME:SVP Aargau
BEGIN:VEVENT
CREATED:20230209T100953Z
UID:10627
DTEND:20231003T200000
DTSTART:20231003T190000
DTSTAMP:20231024T074314Z
LOCATION:
DESCRIPTION:Neu im Schützen, Aarau
SUMMARY:Politapéro mit Sessionsrückblick
ORGANIZER:
URL;VALUE=URI:https://www.svpag.ch/aktuell/termine/politapero-mit-sessionsrueckblick-8/
TRANSP:OPAQUE
END:VEVENT
END:VCALENDAR
