BEGIN:VCALENDAR
VERSION:2.0
PRODID:-//SVP Aargau //NONSGML Events //EN
CALSCALE:GREGORIAN
X-WR-CALNAME:SVP Aargau
BEGIN:VEVENT
CREATED:20230209T100927Z
UID:10625
DTEND:20230620T200000
DTSTART:20230620T190000
DTSTAMP:20231024T074406Z
LOCATION:
DESCRIPTION:Stalden, Berikon
SUMMARY:Politapéro mit Sessionsrückblick
ORGANIZER:
URL;VALUE=URI:https://www.svpag.ch/aktuell/termine/politapero-mit-sessionsrueckblick-7/
TRANSP:OPAQUE
END:VEVENT
END:VCALENDAR
