BEGIN:VCALENDAR
VERSION:2.0
PRODID:-//SVP Aargau //NONSGML Events //EN
CALSCALE:GREGORIAN
X-WR-CALNAME:SVP Aargau
BEGIN:VEVENT
CREATED:20230209T100514Z
UID:10615
DTEND:20230320T200000
DTSTART:20230320T193000
DTSTAMP:20231024T074354Z
LOCATION:
DESCRIPTION:Gasthof Schützen, Aarau
SUMMARY:Politapéro mit Sessionsrückblick
ORGANIZER:
URL;VALUE=URI:https://www.svpag.ch/aktuell/termine/politapero-mit-sessionsrueckblick-2/
TRANSP:OPAQUE
END:VEVENT
END:VCALENDAR
