BEGIN:VCALENDAR
VERSION:2.0
PRODID:-//SVP Aargau //NONSGML Events //EN
CALSCALE:GREGORIAN
X-WR-CALNAME:SVP Aargau
BEGIN:VEVENT
CREATED:20230209T100420Z
UID:10613
DTEND:20230318T120000
DTSTART:20230318T110000
DTSTAMP:20231024T074336Z
LOCATION:
DESCRIPTION:Gasthof Adler, Birmenstorf
SUMMARY:Politapéro mit Sessionsrückblick
ORGANIZER:
URL;VALUE=URI:https://www.svpag.ch/aktuell/termine/politapero-mit-sessionsrueckblick/
TRANSP:OPAQUE
END:VEVENT
END:VCALENDAR
