BEGIN:VCALENDAR
VERSION:2.0
PRODID:-//SVP Aargau //NONSGML Events //EN
CALSCALE:GREGORIAN
X-WR-CALNAME:SVP Aargau
BEGIN:VEVENT
CREATED:20230209T095453Z
UID:10611
DTEND:20240529T000000
DTSTART:20240529T000000
DTSTAMP:20231024T072724Z
LOCATION:
DESCRIPTION:
SUMMARY:Generalversammlung SVP Waltenschwil
ORGANIZER:
URL;VALUE=URI:https://www.svpag.ch/aktuell/termine/generalversammlung-svp-waltenschwil/
TRANSP:OPAQUE
END:VEVENT
END:VCALENDAR
