BEGIN:VCALENDAR
VERSION:2.0
PRODID:-//SVP Aargau //NONSGML Events //EN
CALSCALE:GREGORIAN
X-WR-CALNAME:SVP Aargau
BEGIN:VEVENT
CREATED:20230209T095418Z
UID:10609
DTEND:20231109T000000
DTSTART:20231109T000000
DTSTAMP:20231024T072313Z
LOCATION:
DESCRIPTION:Öffentliche Parteiversammlung
SUMMARY:Parteiversammlung SVP Waltenschwil
ORGANIZER:
URL;VALUE=URI:https://www.svpag.ch/aktuell/termine/parteiversammlung-svp-waltenschwil/
TRANSP:OPAQUE
END:VEVENT
END:VCALENDAR
