BEGIN:VCALENDAR
VERSION:2.0
PRODID:-//SVP Aargau //NONSGML Events //EN
CALSCALE:GREGORIAN
X-WR-CALNAME:SVP Aargau
BEGIN:VEVENT
CREATED:20230209T095246Z
UID:10605
DTEND:20230601T210000
DTSTART:20230601T201500
DTSTAMP:20231024T074331Z
LOCATION:
DESCRIPTION:Öffentliche Parteiversammlung Öffentliches Referat zum Thema: Anstie
SUMMARY:GV SVP Waltenschwil
ORGANIZER:
URL;VALUE=URI:https://www.svpag.ch/aktuell/termine/gv-svp-waltenschwil/
TRANSP:OPAQUE
END:VEVENT
END:VCALENDAR
