BEGIN:VCALENDAR
VERSION:2.0
PRODID:-//SVP Aargau //NONSGML Events //EN
CALSCALE:GREGORIAN
X-WR-CALNAME:SVP Aargau
BEGIN:VEVENT
CREATED:20230204T144440Z
UID:10588
DTEND:20230915T200000
DTSTART:20230915T193000
DTSTAMP:20231024T074320Z
LOCATION:
DESCRIPTION:Gemeindesaal Buchs AG SVP Bezirk Aarau
SUMMARY:Herbsttagung
ORGANIZER:
URL;VALUE=URI:https://www.svpag.ch/aktuell/termine/herbsttagung/
TRANSP:OPAQUE
END:VEVENT
END:VCALENDAR
