BEGIN:VCALENDAR
VERSION:2.0
PRODID:-//SVP Aargau //NONSGML Events //EN
CALSCALE:GREGORIAN
X-WR-CALNAME:SVP Aargau
BEGIN:VEVENT
CREATED:20230204T144400Z
UID:10586
DTEND:20230630T190000
DTSTART:20230630T180000
DTSTAMP:20231024T074407Z
LOCATION:
DESCRIPTION:SVP Buchs 47°23'34.6"N 8°05'17.4"E
SUMMARY:Grillplausch
ORGANIZER:
URL;VALUE=URI:https://www.svpag.ch/aktuell/termine/grillplausch/
TRANSP:OPAQUE
END:VEVENT
END:VCALENDAR
