BEGIN:VCALENDAR
VERSION:2.0
PRODID:-//SVP Aargau //NONSGML Events //EN
CALSCALE:GREGORIAN
X-WR-CALNAME:SVP Aargau
BEGIN:VEVENT
CREATED:20230204T140524Z
UID:10581
DTEND:20230601T210000
DTSTART:20230601T200000
DTSTAMP:20231024T074327Z
LOCATION:
DESCRIPTION:Mit NR-Kandidat Dr. Philipp Gut
SUMMARY:Orientierungsversammlung SVP Strengelbach
ORGANIZER:
URL;VALUE=URI:https://www.svpag.ch/aktuell/termine/orientierungsversammlung-svp-strengelbach/
TRANSP:OPAQUE
END:VEVENT
END:VCALENDAR
