BEGIN:VCALENDAR
VERSION:2.0
PRODID:-//SVP Aargau //NONSGML Events //EN
CALSCALE:GREGORIAN
X-WR-CALNAME:SVP Aargau
BEGIN:VEVENT
CREATED:20230204T140442Z
UID:10579
DTEND:20230331T210000
DTSTART:20230331T200000
DTSTAMP:20231024T074307Z
LOCATION:
DESCRIPTION:Mit NR-Kandidatin Barbara Borer-Mathys Rest. Kastanienbaum
SUMMARY:GV SVP Strengelbach
ORGANIZER:
URL;VALUE=URI:https://www.svpag.ch/aktuell/termine/gv-svp-strengelbach/
TRANSP:OPAQUE
END:VEVENT
END:VCALENDAR
