BEGIN:VCALENDAR
VERSION:2.0
PRODID:-//SVP Aargau //NONSGML Events //EN
CALSCALE:GREGORIAN
X-WR-CALNAME:SVP Aargau
BEGIN:VEVENT
CREATED:20230204T140249Z
UID:10577
DTEND:20230617T170000
DTSTART:20230617T160000
DTSTAMP:20231024T074338Z
LOCATION:
DESCRIPTION:Mit NR Benjamin Giezendanner, Ständeratskandidat Markthalle Zofingen 
SUMMARY:SVP bi de Lüüt in Zofingen
ORGANIZER:
URL;VALUE=URI:https://www.svpag.ch/aktuell/termine/svp-bi-de-lueuet-in-zofingen/
TRANSP:OPAQUE
END:VEVENT
END:VCALENDAR
