BEGIN:VCALENDAR
VERSION:2.0
PRODID:-//SVP Aargau //NONSGML Events //EN
CALSCALE:GREGORIAN
X-WR-CALNAME:SVP Aargau
BEGIN:VEVENT
CREATED:20230111T153709Z
UID:10533
DTEND:20230420T140000
DTSTART:20230420T133000
DTSTAMP:20231024T074323Z
LOCATION:
DESCRIPTION:Referat "Aktenzeichen Ü60" der Kantonspolizei Aargau zum Thema Präve
SUMMARY:Anlass SVP Senioren &#8220\;Aktenzeichen Ü60&#8221\;
ORGANIZER:
URL;VALUE=URI:https://www.svpag.ch/aktuell/termine/anlass-svp-senioren-aktenzeichen-ue60/
TRANSP:OPAQUE
END:VEVENT
END:VCALENDAR
