BEGIN:VCALENDAR
VERSION:2.0
PRODID:-//SVP Aargau //NONSGML Events //EN
CALSCALE:GREGORIAN
X-WR-CALNAME:SVP Aargau
BEGIN:VEVENT
CREATED:20221213T144149Z
UID:10521
DTEND:20230824T000000
DTSTART:20230824T000000
DTSTAMP:20231024T074308Z
LOCATION:
DESCRIPTION:Mehrzweckhalle Holziken SVP Holziken
SUMMARY:Peter Spuhler\, Stadler Rail AG bei der SVP Holziken
ORGANIZER:
URL;VALUE=URI:https://www.svpag.ch/aktuell/termine/peter-spuhler-stadler-rail-ag/
TRANSP:OPAQUE
END:VEVENT
END:VCALENDAR
