BEGIN:VCALENDAR
VERSION:2.0
PRODID:-//SVP Aargau //NONSGML Events //EN
CALSCALE:GREGORIAN
X-WR-CALNAME:SVP Aargau
BEGIN:VEVENT
CREATED:20221209T143634Z
UID:10519
DTEND:20230516T210000
DTSTART:20230516T200000
DTSTAMP:20231024T074312Z
LOCATION:
DESCRIPTION:Schlossgut, Wildegg 19:30 Uhr Eintreffen der Teilnehmer mit Apéro (of
SUMMARY:GV SVP Bezirk Lenzburg
ORGANIZER:
URL;VALUE=URI:https://www.svpag.ch/aktuell/termine/gv-svp-bezirk-lenzburg/
TRANSP:OPAQUE
END:VEVENT
END:VCALENDAR
