BEGIN:VCALENDAR
VERSION:2.0
PRODID:-//SVP Aargau //NONSGML Events //EN
CALSCALE:GREGORIAN
X-WR-CALNAME:SVP Aargau
BEGIN:VEVENT
CREATED:20221209T143545Z
UID:10517
DTEND:20230521T000000
DTSTART:20230517T000000
DTSTAMP:20231024T074325Z
LOCATION:
DESCRIPTION:Anmeldung und weitere Informationen: Carmäleon Reisen AG, info@carmae
SUMMARY:SVP-Aktuell Reise in die Region Flandern
ORGANIZER:
URL;VALUE=URI:https://www.svpag.ch/aktuell/termine/svp-aktuell-reise-in-die-region-flandern/
TRANSP:OPAQUE
END:VEVENT
END:VCALENDAR
