BEGIN:VCALENDAR
VERSION:2.0
PRODID:-//SVP Aargau //NONSGML Events //EN
CALSCALE:GREGORIAN
X-WR-CALNAME:SVP Aargau
BEGIN:VEVENT
CREATED:20221201T102219Z
UID:10509
DTEND:20231014T000000
DTSTART:20231014T000000
DTSTAMP:20231024T074313Z
LOCATION:
DESCRIPTION:SVP Oberkulm
SUMMARY:Käseschnitten und Raclette-Essen
ORGANIZER:
URL;VALUE=URI:https://www.svpag.ch/aktuell/termine/kaeseschnitten-und-raclette-essen/
TRANSP:OPAQUE
END:VEVENT
END:VCALENDAR
