BEGIN:VCALENDAR
VERSION:2.0
PRODID:-//SVP Aargau //NONSGML Events //EN
CALSCALE:GREGORIAN
X-WR-CALNAME:SVP Aargau
BEGIN:VEVENT
CREATED:20221028T123534Z
UID:10489
DTEND:20230218T100000
DTSTART:20230218T090000
DTSTAMP:20231024T074317Z
LOCATION:
DESCRIPTION:Mehrzweckhalle Würenlos Türöffnung 9 Uhr; 9.45 - 16 Uhr.
SUMMARY:22. SVP-Jasscup SVP Schweiz in Würenlos
ORGANIZER:
URL;VALUE=URI:https://www.svpag.ch/aktuell/termine/22-svp-jasscup-svp-schweiz-in-wuerenlos/
TRANSP:OPAQUE
END:VEVENT
END:VCALENDAR
