BEGIN:VCALENDAR
VERSION:2.0
PRODID:-//SVP Aargau //NONSGML Events //EN
CALSCALE:GREGORIAN
X-WR-CALNAME:SVP Aargau
BEGIN:VEVENT
CREATED:20220912T082038Z
UID:10464
DTEND:20231025T000000
DTSTART:20231025T000000
DTSTAMP:20231024T072554Z
LOCATION:
DESCRIPTION:Landgasthof Löwen, Boswil 20.00 Uhr
SUMMARY:Parteitag
ORGANIZER:
URL;VALUE=URI:https://www.svpag.ch/aktuell/termine/parteitag-2/
TRANSP:OPAQUE
END:VEVENT
END:VCALENDAR
