BEGIN:VCALENDAR
VERSION:2.0
PRODID:-//SVP Aargau //NONSGML Events //EN
CALSCALE:GREGORIAN
X-WR-CALNAME:SVP Aargau
BEGIN:VEVENT
CREATED:20220912T082013Z
UID:10462
DTEND:20230510T210000
DTSTART:20230510T200000
DTSTAMP:20231024T074355Z
LOCATION:
DESCRIPTION:Mittwoch, 10. Mai 2023, 20.00 Uhr, Turnhalle Zeihen, Bühl 2
SUMMARY:Parteitag
ORGANIZER:
URL;VALUE=URI:https://www.svpag.ch/aktuell/termine/parteitag/
TRANSP:OPAQUE
END:VEVENT
END:VCALENDAR
