BEGIN:VCALENDAR
VERSION:2.0
PRODID:-//SVP Aargau //NONSGML Events //EN
CALSCALE:GREGORIAN
X-WR-CALNAME:SVP Aargau
BEGIN:VEVENT
CREATED:20220912T080751Z
UID:10458
DTEND:20230512T000000
DTSTART:20230512T000000
DTSTAMP:20231024T074319Z
LOCATION:
DESCRIPTION:Casino Wohlen SVP Bezirk Bremgarten
SUMMARY:4. Maitagung
ORGANIZER:
URL;VALUE=URI:https://www.svpag.ch/aktuell/termine/4-maitagung/
TRANSP:OPAQUE
END:VEVENT
END:VCALENDAR
